BEGIN:VCALENDAR
VERSION:2.0
PRODID:-//Vegan Runners UK - ECPv6.10.0//NONSGML v1.0//EN
CALSCALE:GREGORIAN
METHOD:PUBLISH
X-WR-CALNAME:Vegan Runners UK
X-ORIGINAL-URL:https://www.veganrunners.org.uk
X-WR-CALDESC:Events for Vegan Runners UK
REFRESH-INTERVAL;VALUE=DURATION:PT1H
X-Robots-Tag:noindex
X-PUBLISHED-TTL:PT1H
BEGIN:VTIMEZONE
TZID:Europe/London
BEGIN:DAYLIGHT
TZOFFSETFROM:+0000
TZOFFSETTO:+0100
TZNAME:BST
DTSTART:20260329T010000
END:DAYLIGHT
BEGIN:STANDARD
TZOFFSETFROM:+0100
TZOFFSETTO:+0000
TZNAME:GMT
DTSTART:20261025T010000
END:STANDARD
END:VTIMEZONE
BEGIN:VEVENT
DTSTART;TZID=Europe/London:20260614T110000
DTEND;TZID=Europe/London:20260614T150000
DTSTAMP:20260425T105505
CREATED:20260423T111014Z
LAST-MODIFIED:20260423T111014Z
UID:67050-1781434800-1781449200@www.veganrunners.org.uk
SUMMARY:Southampton Charity Relay Race
DESCRIPTION:
URL:https://www.veganrunners.org.uk/event/southampton-charity-relay-race/
LOCATION:Southampton Common
CATEGORIES:Hampshire,South East England
ATTACH;FMTTYPE=image/jpeg:https://www.veganrunners.org.uk/wp-content/uploads/2026/04/southampton.jpg
END:VEVENT
END:VCALENDAR