BEGIN:VCALENDAR
VERSION:2.0
PRODID:-//Vegan Runners UK - ECPv6.10.0//NONSGML v1.0//EN
CALSCALE:GREGORIAN
METHOD:PUBLISH
X-WR-CALNAME:Vegan Runners UK
X-ORIGINAL-URL:https://www.veganrunners.org.uk
X-WR-CALDESC:Events for Vegan Runners UK
REFRESH-INTERVAL;VALUE=DURATION:PT1H
X-Robots-Tag:noindex
X-PUBLISHED-TTL:PT1H
BEGIN:VTIMEZONE
TZID:Europe/London
BEGIN:DAYLIGHT
TZOFFSETFROM:+0000
TZOFFSETTO:+0100
TZNAME:BST
DTSTART:20250330T010000
END:DAYLIGHT
BEGIN:STANDARD
TZOFFSETFROM:+0100
TZOFFSETTO:+0000
TZNAME:GMT
DTSTART:20251026T010000
END:STANDARD
END:VTIMEZONE
BEGIN:VEVENT
DTSTART;TZID=Europe/London:20251129T090000
DTEND;TZID=Europe/London:20251129T203000
DTSTAMP:20260414T215307
CREATED:20250905T190741Z
LAST-MODIFIED:20250905T191004Z
UID:66477-1764406800-1764448200@www.veganrunners.org.uk
SUMMARY:Forest Green Rovers & parkrun
DESCRIPTION:Join us for a fantastic day of fitness\, fun\, and football! \n🕘 09:00 – parkrun (Location TBC)\nWe’ll kick off the day with a friendly 5K parkrun. Location to be confirmed soon – stay tuned! \n⚽ 15:00 – Forest Green Rovers Match\nAfter a well-earned rest and refuel\, we’ll head to The New Lawn Stadium to cheer on Forest Green Rovers – the world’s greenest football club!\n📍 Another Way\, Nailsworth\, Stroud\, GL6 0FG \nWhether you’re in it for the run\, the game\, or both – all are welcome. Let’s make it a day to remember!
URL:https://www.veganrunners.org.uk/event/forest-green-rovers-parkrun/
LOCATION:The New Lawn Stadium\, Another Way\, Forest Green Rovers\, Nailsworth\, Stroud\, Gloucestershire\, GL6 0FG\, United Kingdom
ATTACH;FMTTYPE=image/jpeg:https://www.veganrunners.org.uk/wp-content/uploads/2025/09/fgr.jpg
END:VEVENT
END:VCALENDAR